BEGIN:VCALENDAR
VERSION:2.0
PRODID:-//Pestalozzi-Mittelschule-Würzburg - ECPv6.15.18//NONSGML v1.0//EN
CALSCALE:GREGORIAN
METHOD:PUBLISH
X-ORIGINAL-URL:https://pestalozzi-mittelschule-wuerzburg.de
X-WR-CALDESC:Veranstaltungen für Pestalozzi-Mittelschule-Würzburg
REFRESH-INTERVAL;VALUE=DURATION:PT1H
X-Robots-Tag:noindex
X-PUBLISHED-TTL:PT1H
BEGIN:VTIMEZONE
TZID:Europe/Berlin
BEGIN:DAYLIGHT
TZOFFSETFROM:+0100
TZOFFSETTO:+0200
TZNAME:CEST
DTSTART:20190331T010000
END:DAYLIGHT
BEGIN:STANDARD
TZOFFSETFROM:+0200
TZOFFSETTO:+0100
TZNAME:CET
DTSTART:20191027T010000
END:STANDARD
BEGIN:DAYLIGHT
TZOFFSETFROM:+0100
TZOFFSETTO:+0200
TZNAME:CEST
DTSTART:20200329T010000
END:DAYLIGHT
BEGIN:STANDARD
TZOFFSETFROM:+0200
TZOFFSETTO:+0100
TZNAME:CET
DTSTART:20201025T010000
END:STANDARD
BEGIN:DAYLIGHT
TZOFFSETFROM:+0100
TZOFFSETTO:+0200
TZNAME:CEST
DTSTART:20210328T010000
END:DAYLIGHT
BEGIN:STANDARD
TZOFFSETFROM:+0200
TZOFFSETTO:+0100
TZNAME:CET
DTSTART:20211031T010000
END:STANDARD
END:VTIMEZONE
BEGIN:VEVENT
DTSTART;TZID=Europe/Berlin:20200522T090000
DTEND;TZID=Europe/Berlin:20200522T100000
DTSTAMP:20260425T004759
CREATED:20200423T121247Z
LAST-MODIFIED:20200423T121322Z
UID:4380-1590138000-1590141600@pestalozzi-mittelschule-wuerzburg.de
SUMMARY:Leittextausgabe
DESCRIPTION:Ausgabe des Leittextes für die boZ-Fächer Wirtschaft\, Soziales und Technik
URL:https://pestalozzi-mittelschule-wuerzburg.de/event/leittextausgabe/
END:VEVENT
END:VCALENDAR