BEGIN:VCALENDAR
VERSION:2.0
PRODID:-//Pestalozzi-Mittelschule-Würzburg - ECPv6.15.18//NONSGML v1.0//EN
CALSCALE:GREGORIAN
METHOD:PUBLISH
X-WR-CALNAME:Pestalozzi-Mittelschule-Würzburg
X-ORIGINAL-URL:https://pestalozzi-mittelschule-wuerzburg.de
X-WR-CALDESC:Veranstaltungen für Pestalozzi-Mittelschule-Würzburg
REFRESH-INTERVAL;VALUE=DURATION:PT1H
X-Robots-Tag:noindex
X-PUBLISHED-TTL:PT1H
BEGIN:VTIMEZONE
TZID:Europe/Berlin
BEGIN:DAYLIGHT
TZOFFSETFROM:+0100
TZOFFSETTO:+0200
TZNAME:CEST
DTSTART:20200329T010000
END:DAYLIGHT
BEGIN:STANDARD
TZOFFSETFROM:+0200
TZOFFSETTO:+0100
TZNAME:CET
DTSTART:20201025T010000
END:STANDARD
BEGIN:DAYLIGHT
TZOFFSETFROM:+0100
TZOFFSETTO:+0200
TZNAME:CEST
DTSTART:20210328T010000
END:DAYLIGHT
BEGIN:STANDARD
TZOFFSETFROM:+0200
TZOFFSETTO:+0100
TZNAME:CET
DTSTART:20211031T010000
END:STANDARD
BEGIN:DAYLIGHT
TZOFFSETFROM:+0100
TZOFFSETTO:+0200
TZNAME:CEST
DTSTART:20220327T010000
END:DAYLIGHT
BEGIN:STANDARD
TZOFFSETFROM:+0200
TZOFFSETTO:+0100
TZNAME:CET
DTSTART:20221030T010000
END:STANDARD
END:VTIMEZONE
BEGIN:VEVENT
DTSTART;TZID=Europe/Berlin:20210712T083000
DTEND;TZID=Europe/Berlin:20210712T102500
DTSTAMP:20260421T121055
CREATED:20200922T130526Z
LAST-MODIFIED:20210607T161948Z
UID:5480-1626078600-1626085500@pestalozzi-mittelschule-wuerzburg.de
SUMMARY:Quali Englisch
DESCRIPTION:Englischprüfung schriftlich: Teil A\, B\, C und D \n(8:30 – 10:25 Uhr)
URL:https://pestalozzi-mittelschule-wuerzburg.de/event/quali-englisch-2/
END:VEVENT
END:VCALENDAR