BEGIN:VCALENDAR
VERSION:2.0
PRODID:-//Pestalozzi-Mittelschule-Würzburg - ECPv6.15.18//NONSGML v1.0//EN
CALSCALE:GREGORIAN
METHOD:PUBLISH
X-WR-CALNAME:Pestalozzi-Mittelschule-Würzburg
X-ORIGINAL-URL:https://pestalozzi-mittelschule-wuerzburg.de
X-WR-CALDESC:Veranstaltungen für Pestalozzi-Mittelschule-Würzburg
REFRESH-INTERVAL;VALUE=DURATION:PT1H
X-Robots-Tag:noindex
X-PUBLISHED-TTL:PT1H
BEGIN:VTIMEZONE
TZID:Europe/Berlin
BEGIN:DAYLIGHT
TZOFFSETFROM:+0100
TZOFFSETTO:+0200
TZNAME:CEST
DTSTART:20200329T010000
END:DAYLIGHT
BEGIN:STANDARD
TZOFFSETFROM:+0200
TZOFFSETTO:+0100
TZNAME:CET
DTSTART:20201025T010000
END:STANDARD
BEGIN:DAYLIGHT
TZOFFSETFROM:+0100
TZOFFSETTO:+0200
TZNAME:CEST
DTSTART:20210328T010000
END:DAYLIGHT
BEGIN:STANDARD
TZOFFSETFROM:+0200
TZOFFSETTO:+0100
TZNAME:CET
DTSTART:20211031T010000
END:STANDARD
BEGIN:DAYLIGHT
TZOFFSETFROM:+0100
TZOFFSETTO:+0200
TZNAME:CEST
DTSTART:20220327T010000
END:DAYLIGHT
BEGIN:STANDARD
TZOFFSETFROM:+0200
TZOFFSETTO:+0100
TZNAME:CET
DTSTART:20221030T010000
END:STANDARD
END:VTIMEZONE
BEGIN:VEVENT
DTSTART;TZID=Europe/Berlin:20210728T180000
DTEND;TZID=Europe/Berlin:20210728T193000
DTSTAMP:20260421T120954
CREATED:20210617T162457Z
LAST-MODIFIED:20210617T163902Z
UID:6561-1627495200-1627500600@pestalozzi-mittelschule-wuerzburg.de
SUMMARY:Ab­schluss­feier
DESCRIPTION:Entlassfeier der Klassen 9a und P9
URL:https://pestalozzi-mittelschule-wuerzburg.de/event/abschlussfeier/
END:VEVENT
END:VCALENDAR