BEGIN:VCALENDAR
VERSION:2.0
PRODID:-//Pestalozzi-Mittelschule-Würzburg - ECPv6.15.18//NONSGML v1.0//EN
CALSCALE:GREGORIAN
METHOD:PUBLISH
X-WR-CALNAME:Pestalozzi-Mittelschule-Würzburg
X-ORIGINAL-URL:https://pestalozzi-mittelschule-wuerzburg.de
X-WR-CALDESC:Veranstaltungen für Pestalozzi-Mittelschule-Würzburg
REFRESH-INTERVAL;VALUE=DURATION:PT1H
X-Robots-Tag:noindex
X-PUBLISHED-TTL:PT1H
BEGIN:VTIMEZONE
TZID:Europe/Berlin
BEGIN:DAYLIGHT
TZOFFSETFROM:+0100
TZOFFSETTO:+0200
TZNAME:CEST
DTSTART:20200329T010000
END:DAYLIGHT
BEGIN:STANDARD
TZOFFSETFROM:+0200
TZOFFSETTO:+0100
TZNAME:CET
DTSTART:20201025T010000
END:STANDARD
BEGIN:DAYLIGHT
TZOFFSETFROM:+0100
TZOFFSETTO:+0200
TZNAME:CEST
DTSTART:20210328T010000
END:DAYLIGHT
BEGIN:STANDARD
TZOFFSETFROM:+0200
TZOFFSETTO:+0100
TZNAME:CET
DTSTART:20211031T010000
END:STANDARD
BEGIN:DAYLIGHT
TZOFFSETFROM:+0100
TZOFFSETTO:+0200
TZNAME:CEST
DTSTART:20220327T010000
END:DAYLIGHT
BEGIN:STANDARD
TZOFFSETFROM:+0200
TZOFFSETTO:+0100
TZNAME:CET
DTSTART:20221030T010000
END:STANDARD
END:VTIMEZONE
BEGIN:VEVENT
DTSTART;VALUE=DATE:20210729
DTEND;VALUE=DATE:20210801
DTSTAMP:20260421T121004
CREATED:20210118T124353Z
LAST-MODIFIED:20210118T124353Z
UID:6159-1627520400-1627693199@pestalozzi-mittelschule-wuerzburg.de
SUMMARY:Anmel­dung für M10
DESCRIPTION:Anmeldetermin für M10 für das Schuljahr 2021/2022
URL:https://pestalozzi-mittelschule-wuerzburg.de/event/anmeldung-fuer-m10/
END:VEVENT
BEGIN:VEVENT
DTSTART;TZID=Europe/Berlin:20210729T080000
DTEND;TZID=Europe/Berlin:20210729T170000
DTSTAMP:20260421T121004
CREATED:20210118T124209Z
LAST-MODIFIED:20210118T130923Z
UID:6157-1627545600-1627578000@pestalozzi-mittelschule-wuerzburg.de
SUMMARY:Letzter Schul­tag für alle Schüler
DESCRIPTION:Letzter Schultag auch für Abschlussschüler.
URL:https://pestalozzi-mittelschule-wuerzburg.de/event/letzter-schul-tag-fuer-alle-schueler/
END:VEVENT
END:VCALENDAR