BEGIN:VCALENDAR
VERSION:2.0
PRODID:-//Pestalozzi-Mittelschule-Würzburg - ECPv6.15.18//NONSGML v1.0//EN
CALSCALE:GREGORIAN
METHOD:PUBLISH
X-WR-CALNAME:Pestalozzi-Mittelschule-Würzburg
X-ORIGINAL-URL:https://pestalozzi-mittelschule-wuerzburg.de
X-WR-CALDESC:Veranstaltungen für Pestalozzi-Mittelschule-Würzburg
REFRESH-INTERVAL;VALUE=DURATION:PT1H
X-Robots-Tag:noindex
X-PUBLISHED-TTL:PT1H
BEGIN:VTIMEZONE
TZID:Europe/Berlin
BEGIN:DAYLIGHT
TZOFFSETFROM:+0100
TZOFFSETTO:+0200
TZNAME:CEST
DTSTART:20200329T010000
END:DAYLIGHT
BEGIN:STANDARD
TZOFFSETFROM:+0200
TZOFFSETTO:+0100
TZNAME:CET
DTSTART:20201025T010000
END:STANDARD
BEGIN:DAYLIGHT
TZOFFSETFROM:+0100
TZOFFSETTO:+0200
TZNAME:CEST
DTSTART:20210328T010000
END:DAYLIGHT
BEGIN:STANDARD
TZOFFSETFROM:+0200
TZOFFSETTO:+0100
TZNAME:CET
DTSTART:20211031T010000
END:STANDARD
BEGIN:DAYLIGHT
TZOFFSETFROM:+0100
TZOFFSETTO:+0200
TZNAME:CEST
DTSTART:20220327T010000
END:DAYLIGHT
BEGIN:STANDARD
TZOFFSETFROM:+0200
TZOFFSETTO:+0100
TZNAME:CET
DTSTART:20221030T010000
END:STANDARD
END:VTIMEZONE
BEGIN:VEVENT
DTSTART;TZID=Europe/Berlin:20211102T080000
DTEND;TZID=Europe/Berlin:20211105T170000
DTSTAMP:20260424T092450
CREATED:20211011T154632Z
LAST-MODIFIED:20211011T154632Z
UID:6938-1635840000-1636131600@pestalozzi-mittelschule-wuerzburg.de
SUMMARY:Herbst­ferien
DESCRIPTION:
URL:https://pestalozzi-mittelschule-wuerzburg.de/event/herbstferien-2/
END:VEVENT
BEGIN:VEVENT
DTSTART;TZID=Europe/Berlin:20211109T180000
DTEND;TZID=Europe/Berlin:20211109T190000
DTSTAMP:20260424T092450
CREATED:20211011T154349Z
LAST-MODIFIED:20211011T154349Z
UID:6934-1636480800-1636484400@pestalozzi-mittelschule-wuerzburg.de
SUMMARY:Eltern­beirats­sitzung
DESCRIPTION:Treffen des neuen Elternbeirats
URL:https://pestalozzi-mittelschule-wuerzburg.de/event/elternbeiratssitzung-3/
END:VEVENT
BEGIN:VEVENT
DTSTART;VALUE=DATE:20211117
DTEND;VALUE=DATE:20211119
DTSTAMP:20260424T092450
CREATED:20211011T155257Z
LAST-MODIFIED:20211011T155257Z
UID:6950-1637110800-1637197199@pestalozzi-mittelschule-wuerzburg.de
SUMMARY:Buß- und Bettag
DESCRIPTION:Unterrichtsfreier Tag in Bayern
URL:https://pestalozzi-mittelschule-wuerzburg.de/event/buss-und-bettag-3/
END:VEVENT
BEGIN:VEVENT
DTSTART;TZID=Europe/Berlin:20211118T080000
DTEND;TZID=Europe/Berlin:20211118T130000
DTSTAMP:20260424T092450
CREATED:20211017T110006Z
LAST-MODIFIED:20211017T110021Z
UID:6987-1637222400-1637240400@pestalozzi-mittelschule-wuerzburg.de
SUMMARY:Besuch der Umwelt­station
DESCRIPTION:Klasse 6a
URL:https://pestalozzi-mittelschule-wuerzburg.de/event/besuch-der-umeltstation/
END:VEVENT
END:VCALENDAR