BEGIN:VCALENDAR
VERSION:2.0
PRODID:-//Pestalozzi-Mittelschule-Würzburg - ECPv6.15.18//NONSGML v1.0//EN
CALSCALE:GREGORIAN
METHOD:PUBLISH
X-WR-CALNAME:Pestalozzi-Mittelschule-Würzburg
X-ORIGINAL-URL:https://pestalozzi-mittelschule-wuerzburg.de
X-WR-CALDESC:Veranstaltungen für Pestalozzi-Mittelschule-Würzburg
REFRESH-INTERVAL;VALUE=DURATION:PT1H
X-Robots-Tag:noindex
X-PUBLISHED-TTL:PT1H
BEGIN:VTIMEZONE
TZID:Europe/Berlin
BEGIN:DAYLIGHT
TZOFFSETFROM:+0100
TZOFFSETTO:+0200
TZNAME:CEST
DTSTART:20230326T010000
END:DAYLIGHT
BEGIN:STANDARD
TZOFFSETFROM:+0200
TZOFFSETTO:+0100
TZNAME:CET
DTSTART:20231029T010000
END:STANDARD
BEGIN:DAYLIGHT
TZOFFSETFROM:+0100
TZOFFSETTO:+0200
TZNAME:CEST
DTSTART:20240331T010000
END:DAYLIGHT
BEGIN:STANDARD
TZOFFSETFROM:+0200
TZOFFSETTO:+0100
TZNAME:CET
DTSTART:20241027T010000
END:STANDARD
BEGIN:DAYLIGHT
TZOFFSETFROM:+0100
TZOFFSETTO:+0200
TZNAME:CEST
DTSTART:20250330T010000
END:DAYLIGHT
BEGIN:STANDARD
TZOFFSETFROM:+0200
TZOFFSETTO:+0100
TZNAME:CET
DTSTART:20251026T010000
END:STANDARD
BEGIN:DAYLIGHT
TZOFFSETFROM:+0100
TZOFFSETTO:+0200
TZNAME:CEST
DTSTART:20260329T010000
END:DAYLIGHT
BEGIN:STANDARD
TZOFFSETFROM:+0200
TZOFFSETTO:+0100
TZNAME:CET
DTSTART:20261025T010000
END:STANDARD
END:VTIMEZONE
BEGIN:VEVENT
DTSTART;VALUE=DATE:20241223
DTEND;VALUE=DATE:20250105
DTSTAMP:20260421T104903
CREATED:20240901T072355Z
LAST-MODIFIED:20240901T072355Z
UID:9838-1734915600-1735952399@pestalozzi-mittelschule-wuerzburg.de
SUMMARY:Weihnachtsferien
DESCRIPTION:
URL:https://pestalozzi-mittelschule-wuerzburg.de/event/weihnachtsferien-5/
END:VEVENT
BEGIN:VEVENT
DTSTART;VALUE=DATE:20250107
DTEND;VALUE=DATE:20250110
DTSTAMP:20260421T104903
CREATED:20241204T090350Z
LAST-MODIFIED:20241204T090350Z
UID:10431-1736211600-1736384399@pestalozzi-mittelschule-wuerzburg.de
SUMMARY:7a bfz Potentialanalyse
DESCRIPTION:Potentialanalyse Klasse 7a
URL:https://pestalozzi-mittelschule-wuerzburg.de/event/7a-bfz-potentialanalyse/
END:VEVENT
BEGIN:VEVENT
DTSTART;VALUE=DATE:20250113
DTEND;VALUE=DATE:20250126
DTSTAMP:20260421T104903
CREATED:20240910T134334Z
LAST-MODIFIED:20240910T134334Z
UID:9937-1736730000-1737766799@pestalozzi-mittelschule-wuerzburg.de
SUMMARY:Betriebspraktikum 8. Klassen
DESCRIPTION:
URL:https://pestalozzi-mittelschule-wuerzburg.de/event/betriebspraktikum-8-klassen-4/
END:VEVENT
BEGIN:VEVENT
DTSTART;VALUE=DATE:20250113
DTEND;VALUE=DATE:20250126
DTSTAMP:20260421T104903
CREATED:20241204T090609Z
LAST-MODIFIED:20241204T090609Z
UID:10435-1736730000-1737766799@pestalozzi-mittelschule-wuerzburg.de
SUMMARY:bfz Werkstatttage 7a
DESCRIPTION:Werkstatttage im bfz 7a
URL:https://pestalozzi-mittelschule-wuerzburg.de/event/bfz-werkstatttage-7a/
END:VEVENT
BEGIN:VEVENT
DTSTART;VALUE=DATE:20250120
DTEND;VALUE=DATE:20250123
DTSTAMP:20260421T104903
CREATED:20241204T090459Z
LAST-MODIFIED:20241204T090459Z
UID:10433-1737334800-1737507599@pestalozzi-mittelschule-wuerzburg.de
SUMMARY:7b bfz Potentialanalyse
DESCRIPTION:Potentialanalyse im bfz 7b
URL:https://pestalozzi-mittelschule-wuerzburg.de/event/7b-bfz-potentialanalyse/
END:VEVENT
BEGIN:VEVENT
DTSTART;VALUE=DATE:20250127
DTEND;VALUE=DATE:20250209
DTSTAMP:20260421T104903
CREATED:20241204T090707Z
LAST-MODIFIED:20241204T090707Z
UID:10437-1737939600-1738976399@pestalozzi-mittelschule-wuerzburg.de
SUMMARY:Werkstatttage bfz 7b
DESCRIPTION:bfz Werkstatttage 7b
URL:https://pestalozzi-mittelschule-wuerzburg.de/event/werkstatttage-bfz-7b/
END:VEVENT
END:VCALENDAR